BEGIN:VCALENDAR
VERSION:2.0
PRODID:-//Setomaa Lasteaed - ECPv6.15.20//NONSGML v1.0//EN
CALSCALE:GREGORIAN
METHOD:PUBLISH
X-WR-CALNAME:Setomaa Lasteaed
X-ORIGINAL-URL:https://setomaalasteaed.ee
X-WR-CALDESC:Events for Setomaa Lasteaed
REFRESH-INTERVAL;VALUE=DURATION:PT1H
X-Robots-Tag:noindex
X-PUBLISHED-TTL:PT1H
BEGIN:VTIMEZONE
TZID:UTC
BEGIN:STANDARD
TZOFFSETFROM:+0000
TZOFFSETTO:+0000
TZNAME:UTC
DTSTART:20240101T000000
END:STANDARD
END:VTIMEZONE
BEGIN:VEVENT
DTSTART;TZID=UTC:20250502T080000
DTEND;TZID=UTC:20250502T160000
DTSTAMP:20260422T090838
CREATED:20250415T101007Z
LAST-MODIFIED:20250415T101007Z
UID:2950-1746172800-1746201600@setomaalasteaed.ee
SUMMARY:02.05. töötajate õppereis Tartu Lotte lasteaeda ja Kolahoovi
DESCRIPTION:
URL:https://setomaalasteaed.ee/sundmus/02-05-tootajate-oppereis-tartu-lotte-lasteaeda-ja-kolahoovi/
END:VEVENT
END:VCALENDAR